BEGIN:VCALENDAR
VERSION:2.0
PRODID:-//B&amp;D Opportunities - ECPv6.15.20//NONSGML v1.0//EN
CALSCALE:GREGORIAN
METHOD:PUBLISH
X-WR-CALNAME:B&amp;D Opportunities
X-ORIGINAL-URL:https://bdopportunities.org
X-WR-CALDESC:Events for B&amp;D Opportunities
REFRESH-INTERVAL;VALUE=DURATION:PT1H
X-Robots-Tag:noindex
X-PUBLISHED-TTL:PT1H
BEGIN:VTIMEZONE
TZID:UTC
BEGIN:STANDARD
TZOFFSETFROM:+0000
TZOFFSETTO:+0000
TZNAME:UTC
DTSTART:20250101T000000
END:STANDARD
END:VTIMEZONE
BEGIN:VEVENT
DTSTART;TZID=UTC:20260505T103000
DTEND;TZID=UTC:20260901T123000
DTSTAMP:20260423T110943
CREATED:20260417T133315Z
LAST-MODIFIED:20260417T133315Z
UID:4512-1777977000-1788265800@bdopportunities.org
SUMMARY:Cooking Club- Heath Park
DESCRIPTION:Join us for a fun and practical cooking session where you’ll learn how to prepare delicious\, healthy meals on a budget. Whether you’re a complete beginner or just looking for new ideas\, this class is for everyone!   \nYou’ll discover:   \n\n How to cook nutritious meals on a tight budget \n Tips to reduce food waste \n Simple recipes the whole family will enjoy \n How to make the most of seasonal and affordable ingredients\n\n Occurring on every First Tuesday of the month\, 10:30am to 12:30pm which are the next following dates: \n\n5 May\n2 June\n7 July\n4 August\n1 September\n\nThis event is strictly for Heath Park residents and requires booking in advance.   \nPlease contact or email the venue to secure your place.  
URL:https://bdopportunities.org/event/cooking-club-heath-park/
LOCATION:Heath Park Community Centre\, Rusholme Avenue\, Dagenham\, RM10 7PR
ATTACH;FMTTYPE=image/png:https://bdopportunities.org/wp-content/uploads/2026/04/Picture1.png
ORGANIZER;CN="Heath Park Consortium":MAILTO:heathparkconsortium@gmail.com
END:VEVENT
BEGIN:VEVENT
DTSTART;TZID=UTC:20260921T100000
DTEND;TZID=UTC:20260921T123000
DTSTAMP:20260423T110943
CREATED:20260219T151209Z
LAST-MODIFIED:20260219T151222Z
UID:4447-1789984800-1789993800@bdopportunities.org
SUMMARY:Cooking Club- Marks Gate Relief Project
DESCRIPTION:Contact to book in advance: an email to asma.haq@mgrp.org.uk or sms on 07448057268 \nCome and cook with us! and join one of our cooking sessions\, which are taking place across the borough. Food is a great connector\, so come along to share your favourite recipes and food stories\, learn new skills and meet others in your community who are passionate about food. \nYou don’t have to know lots about cooking to join in – everyone has something to contribute! \nMarks Gate relief project is strictly unable to accommodate clients bringing friends and family who are not booked in prior to the sessions.
URL:https://bdopportunities.org/event/cooking-club-marks-gate-relief-project-5/
LOCATION:Marks Gate Community Centre\, Rose Lane Community Centre\, Rose Ln\, Dagenham\, Romford\, London\, RM6 5NJ
CATEGORIES:cooking clubs,Food
ATTACH;FMTTYPE=image/jpeg:https://bdopportunities.org/wp-content/uploads/2025/02/Church-Elm-Hub-Cooking-Club.jpeg
ORGANIZER;CN="Asma Haq":MAILTO:Asma.haq@mgrp.org.uk
END:VEVENT
BEGIN:VEVENT
DTSTART;TZID=UTC:20261019T100000
DTEND;TZID=UTC:20261019T123000
DTSTAMP:20260423T110943
CREATED:20260219T151326Z
LAST-MODIFIED:20260219T151359Z
UID:4456-1792404000-1792413000@bdopportunities.org
SUMMARY:Cooking Club- Marks Gate Relief Project
DESCRIPTION:Contact to book in advance: an email to asma.haq@mgrp.org.uk or sms on 07448057268 \nCome and cook with us! and join one of our cooking sessions\, which are taking place across the borough. Food is a great connector\, so come along to share your favourite recipes and food stories\, learn new skills and meet others in your community who are passionate about food. \nYou don’t have to know lots about cooking to join in – everyone has something to contribute! \nMarks Gate relief project is strictly unable to accommodate clients bringing friends and family who are not booked in prior to the sessions.
URL:https://bdopportunities.org/event/cooking-club-marks-gate-relief-project-copy/
LOCATION:Marks Gate Community Centre\, Rose Lane Community Centre\, Rose Ln\, Dagenham\, Romford\, London\, RM6 5NJ
CATEGORIES:cooking clubs,Food
ATTACH;FMTTYPE=image/jpeg:https://bdopportunities.org/wp-content/uploads/2025/02/Church-Elm-Hub-Cooking-Club.jpeg
ORGANIZER;CN="Asma Haq":MAILTO:Asma.haq@mgrp.org.uk
END:VEVENT
END:VCALENDAR