BEGIN:VCALENDAR
VERSION:2.0
PRODID:-//B&amp;D Opportunities - ECPv6.15.20//NONSGML v1.0//EN
CALSCALE:GREGORIAN
METHOD:PUBLISH
X-WR-CALNAME:B&amp;D Opportunities
X-ORIGINAL-URL:https://bdopportunities.org
X-WR-CALDESC:Events for B&amp;D Opportunities
REFRESH-INTERVAL;VALUE=DURATION:PT1H
X-Robots-Tag:noindex
X-PUBLISHED-TTL:PT1H
BEGIN:VTIMEZONE
TZID:UTC
BEGIN:STANDARD
TZOFFSETFROM:+0000
TZOFFSETTO:+0000
TZNAME:UTC
DTSTART:20250101T000000
END:STANDARD
END:VTIMEZONE
BEGIN:VEVENT
DTSTART;TZID=UTC:20260529T110000
DTEND;TZID=UTC:20260529T130000
DTSTAMP:20260423T093944
CREATED:20260312T093525Z
LAST-MODIFIED:20260312T093525Z
UID:4489-1780052400-1780059600@bdopportunities.org
SUMMARY:Cooking Club- The Source
DESCRIPTION:Come and cook with us! and join one of our cooking sessions\, which are taking place across the borough. \nFood is a great connector\, so come along to share your favourite recipes and food stories\, learn new skills and meet others in your community who are passionate about food. \nYou don’t have to know lots about cooking to join in – everyone has something to contribute!
URL:https://bdopportunities.org/event/cooking-club-the-source-may/
LOCATION:The Source Wellbeing Centre\, Unit 37A Vicarage Shopping Centre\, Barking\, IG11 8DH
CATEGORIES:cooking clubs,Food
ATTACH;FMTTYPE=image/jpeg:https://bdopportunities.org/wp-content/uploads/2025/02/Church-Elm-Hub-Cooking-Club.jpeg
ORGANIZER;CN="Source":MAILTO:sourceinfo@barkingchurchesunite.org
END:VEVENT
BEGIN:VEVENT
DTSTART;TZID=UTC:20260518T100000
DTEND;TZID=UTC:20260518T123000
DTSTAMP:20260423T093944
CREATED:20260219T151104Z
LAST-MODIFIED:20260219T151104Z
UID:4450-1779098400-1779107400@bdopportunities.org
SUMMARY:Cooking Club- Marks Gate Relief Project
DESCRIPTION:Contact to book in advance: an email to asma.haq@mgrp.org.uk or sms on 07448057268 \nCome and cook with us! and join one of our cooking sessions\, which are taking place across the borough. Food is a great connector\, so come along to share your favourite recipes and food stories\, learn new skills and meet others in your community who are passionate about food. \nYou don’t have to know lots about cooking to join in – everyone has something to contribute! \nThe theme for the April\, May\, and June clubs is Indian Street Food. \nMarks Gate relief project is strictly unable to accommodate clients bringing friends and family who are not booked in prior to the sessions.
URL:https://bdopportunities.org/event/cooking-club-marks-gate-relief-project-2/
LOCATION:Marks Gate Community Centre\, Rose Lane Community Centre\, Rose Ln\, Dagenham\, Romford\, London\, RM6 5NJ
CATEGORIES:cooking clubs,Food
ATTACH;FMTTYPE=image/jpeg:https://bdopportunities.org/wp-content/uploads/2025/02/Church-Elm-Hub-Cooking-Club.jpeg
ORGANIZER;CN="Asma Haq":MAILTO:Asma.haq@mgrp.org.uk
END:VEVENT
BEGIN:VEVENT
DTSTART;TZID=UTC:20260424T110000
DTEND;TZID=UTC:20260424T130000
DTSTAMP:20260423T093944
CREATED:20260312T093358Z
LAST-MODIFIED:20260312T093358Z
UID:4486-1777028400-1777035600@bdopportunities.org
SUMMARY:Cooking Club- The Source
DESCRIPTION:Come and cook with us! and join one of our cooking sessions\, which are taking place across the borough. \nFood is a great connector\, so come along to share your favourite recipes and food stories\, learn new skills and meet others in your community who are passionate about food. \nYou don’t have to know lots about cooking to join in – everyone has something to contribute!
URL:https://bdopportunities.org/event/cooking-club-the-source-april/
LOCATION:The Source Wellbeing Centre\, Unit 37A Vicarage Shopping Centre\, Barking\, IG11 8DH
CATEGORIES:cooking clubs,Food
ATTACH;FMTTYPE=image/jpeg:https://bdopportunities.org/wp-content/uploads/2025/02/Church-Elm-Hub-Cooking-Club.jpeg
ORGANIZER;CN="Source":MAILTO:sourceinfo@barkingchurchesunite.org
END:VEVENT
BEGIN:VEVENT
DTSTART;TZID=UTC:20260420T100000
DTEND;TZID=UTC:20260420T123000
DTSTAMP:20260423T093944
CREATED:20260219T150904Z
LAST-MODIFIED:20260219T150904Z
UID:4438-1776679200-1776688200@bdopportunities.org
SUMMARY:Cooking Club- Marks Gate Relief Project
DESCRIPTION:Contact to book in advance: an email to asma.haq@mgrp.org.uk or sms on 07448057268 \nCome and cook with us! and join one of our cooking sessions\, which are taking place across the borough. Food is a great connector\, so come along to share your favourite recipes and food stories\, learn new skills and meet others in your community who are passionate about food. \nYou don’t have to know lots about cooking to join in – everyone has something to contribute! \nThe theme for the April\, May\, and June clubs is Indian Street Food. \nMarks Gate relief project is strictly unable to accommodate clients bringing friends and family who are not booked in prior to the sessions.
URL:https://bdopportunities.org/event/cooking-club-marks-gate-relief-project/
LOCATION:Marks Gate Community Centre\, Rose Lane Community Centre\, Rose Ln\, Dagenham\, Romford\, London\, RM6 5NJ
CATEGORIES:cooking clubs,Food
ATTACH;FMTTYPE=image/jpeg:https://bdopportunities.org/wp-content/uploads/2025/02/Church-Elm-Hub-Cooking-Club.jpeg
ORGANIZER;CN="Asma Haq":MAILTO:Asma.haq@mgrp.org.uk
END:VEVENT
BEGIN:VEVENT
DTSTART;TZID=UTC:20260410T140000
DTEND;TZID=UTC:20260410T160000
DTSTAMP:20260423T093944
CREATED:20260312T094119Z
LAST-MODIFIED:20260312T094119Z
UID:4491-1775829600-1775836800@bdopportunities.org
SUMMARY:Cooking Club- The Vibe
DESCRIPTION:Come and cook with us! and join one of our cooking sessions\, which are taking place across the borough. \nFood is a great connector\, so come along to share your favourite recipes and food stories\, learn new skills and meet others in your community who are passionate about food. \nYou don’t have to know lots about cooking to join in – everyone has something to contribute! \nThis event is strictly for Care Leavers in the borough.
URL:https://bdopportunities.org/event/cooking-club-the-vibe/
LOCATION:The Vibe\, Becontree Avenue\, Dagenham\, RM8 2UT
CATEGORIES:cooking clubs,Food
ATTACH;FMTTYPE=image/jpeg:https://bdopportunities.org/wp-content/uploads/2025/02/Church-Elm-Hub-Cooking-Club.jpeg
ORGANIZER;CN="Emma Ayres":MAILTO:emma.ayres@lbbd.gov.uk
END:VEVENT
BEGIN:VEVENT
DTSTART;TZID=UTC:20260327T110000
DTEND;TZID=UTC:20260327T130000
DTSTAMP:20260423T093944
CREATED:20260312T092715Z
LAST-MODIFIED:20260312T093431Z
UID:4481-1774609200-1774616400@bdopportunities.org
SUMMARY:Cooking Club- The Source
DESCRIPTION:Come and cook with us! and join one of our cooking sessions\, which are taking place across the borough. \nFood is a great connector\, so come along to share your favourite recipes and food stories\, learn new skills and meet others in your community who are passionate about food. \nYou don’t have to know lots about cooking to join in – everyone has something to contribute!
URL:https://bdopportunities.org/event/cooking-club-the-source-march/
LOCATION:The Source Wellbeing Centre\, Unit 37A Vicarage Shopping Centre\, Barking\, IG11 8DH
CATEGORIES:cooking clubs,Food
ATTACH;FMTTYPE=image/jpeg:https://bdopportunities.org/wp-content/uploads/2025/02/Church-Elm-Hub-Cooking-Club.jpeg
ORGANIZER;CN="Source":MAILTO:sourceinfo@barkingchurchesunite.org
END:VEVENT
BEGIN:VEVENT
DTSTART;TZID=UTC:20260324T090000
DTEND;TZID=UTC:20260324T110000
DTSTAMP:20260423T093944
CREATED:20260312T154340Z
LAST-MODIFIED:20260312T154340Z
UID:4503-1774342800-1774350000@bdopportunities.org
SUMMARY:Cooking Club- Hunters Hall Primary School
DESCRIPTION:Come and cook with us! and join one of our cooking sessions\, which are taking place across the borough. \nFood is a great connector\, so come along to share your favourite recipes and food stories\, learn new skills and meet others in your community who are passionate about food. \nYou don’t have to know lots about cooking to join in – everyone has something to contribute! \nThis event is strictly for parents of children attending Hunters Hall Primary school.
URL:https://bdopportunities.org/event/cooking-club-hunters-hall-primary-school-2/
LOCATION:Hunters Hall Primary School\, Alibon Road\, RM10 8DE
CATEGORIES:cooking clubs,Food
ATTACH;FMTTYPE=image/jpeg:https://bdopportunities.org/wp-content/uploads/2025/02/Church-Elm-Hub-Cooking-Club.jpeg
END:VEVENT
BEGIN:VEVENT
DTSTART;TZID=UTC:20260317T090000
DTEND;TZID=UTC:20260317T110000
DTSTAMP:20260423T093944
CREATED:20260312T154226Z
LAST-MODIFIED:20260312T154226Z
UID:4501-1773738000-1773745200@bdopportunities.org
SUMMARY:Cooking Club- Hunters Hall Primary School
DESCRIPTION:Come and cook with us! and join one of our cooking sessions\, which are taking place across the borough. \nFood is a great connector\, so come along to share your favourite recipes and food stories\, learn new skills and meet others in your community who are passionate about food. \nYou don’t have to know lots about cooking to join in – everyone has something to contribute! \nThis event is strictly for parents of children attending Hunters Hall Primary school.
URL:https://bdopportunities.org/event/hunters-hall-primary-school/
LOCATION:Hunters Hall Primary School\, Alibon Road\, RM10 8DE
CATEGORIES:cooking clubs,Food
ATTACH;FMTTYPE=image/jpeg:https://bdopportunities.org/wp-content/uploads/2025/02/Church-Elm-Hub-Cooking-Club.jpeg
END:VEVENT
BEGIN:VEVENT
DTSTART;TZID=UTC:20260202T150000
DTEND;TZID=UTC:20260202T170000
DTSTAMP:20260423T093944
CREATED:20250722T135418Z
LAST-MODIFIED:20250722T135448Z
UID:4248-1770044400-1770051600@bdopportunities.org
SUMMARY:Cooking Club - Thames View Community Hall
DESCRIPTION:Come and cook with us! and join one of our cooking sessions which are taking place across the borough. Food is a great connector so come along to share your favourite recipes and food stories\, learn new skills and meet others in your community that are passionate about food. \nYou don’t have to know lots about cooking to join in – everyone has something to contribute!
URL:https://bdopportunities.org/event/cooking-club-thames-view-community-hall-copy-2/
LOCATION:Thames View Community Hall\, 3117 Bastable Avenue\, Barking\, IG11 0LG
CATEGORIES:cooking clubs,Food
ATTACH;FMTTYPE=image/jpeg:https://bdopportunities.org/wp-content/uploads/2025/02/Church-Elm-Hub-Cooking-Club.jpeg
ORGANIZER;CN="Creative Wellness":MAILTO:hello@creativewellness.uk
END:VEVENT
END:VCALENDAR